BEGIN:VCALENDAR
VERSION:2.0
PRODID:-// - ECPv6.15.20//NONSGML v1.0//EN
CALSCALE:GREGORIAN
METHOD:PUBLISH
X-ORIGINAL-URL:https://global.howard.edu
X-WR-CALDESC:Events for 
REFRESH-INTERVAL;VALUE=DURATION:PT1H
X-Robots-Tag:noindex
X-PUBLISHED-TTL:PT1H
BEGIN:VTIMEZONE
TZID:America/New_York
BEGIN:DAYLIGHT
TZOFFSETFROM:-0500
TZOFFSETTO:-0400
TZNAME:EDT
DTSTART:20250309T070000
END:DAYLIGHT
BEGIN:STANDARD
TZOFFSETFROM:-0400
TZOFFSETTO:-0500
TZNAME:EST
DTSTART:20251102T060000
END:STANDARD
BEGIN:DAYLIGHT
TZOFFSETFROM:-0500
TZOFFSETTO:-0400
TZNAME:EDT
DTSTART:20260308T070000
END:DAYLIGHT
BEGIN:STANDARD
TZOFFSETFROM:-0400
TZOFFSETTO:-0500
TZNAME:EST
DTSTART:20261101T060000
END:STANDARD
BEGIN:DAYLIGHT
TZOFFSETFROM:-0500
TZOFFSETTO:-0400
TZNAME:EDT
DTSTART:20270314T070000
END:DAYLIGHT
BEGIN:STANDARD
TZOFFSETFROM:-0400
TZOFFSETTO:-0500
TZNAME:EST
DTSTART:20271107T060000
END:STANDARD
END:VTIMEZONE
BEGIN:VEVENT
DTSTART;TZID=America/New_York:20260324T090000
DTEND;TZID=America/New_York:20260324T170000
DTSTAMP:20260422T190026
CREATED:20260320T185645Z
LAST-MODIFIED:20260320T185646Z
UID:7868-1774342800-1774371600@global.howard.edu
SUMMARY:Global Commons
DESCRIPTION:Tired of crowded library spaces? Come study in the Global Commons at the RBC! Monday-Friday\, 9 AM-5 PM\, enjoy beautiful city views\, open study areas\, and easy access to study abroad\, internships\, and fellowships. No appointments needed-just come through! On days we host RBC programming\, you’re welcome to stay and join the events.
URL:https://global.howard.edu/event/global-commons/
LOCATION:Ralph J. Bunche International Affairs Center\, 1805 7th Street NW\, Washington\, DC\, 20001\, United States
CATEGORIES:Ralph Bunche International Affairs Center
ATTACH;FMTTYPE=image/png:https://global.howard.edu/wp-content/uploads/2026/03/Global-Commons-Poster-1.png
END:VEVENT
BEGIN:VEVENT
DTSTART;TZID=America/New_York:20260326T110000
DTEND;TZID=America/New_York:20260326T123000
DTSTAMP:20260422T190026
CREATED:20260320T185031Z
LAST-MODIFIED:20260320T185031Z
UID:7861-1774522800-1774528200@global.howard.edu
SUMMARY:Attempts to Undermine Black Internationalism
DESCRIPTION:This event\, hosted by the Ralph J. Bunche International Affairs Center of Howard\, is a panel discussion assessing the human cost of U.S. withdrawal from the UN Permanent Forum on People of African Descent. Our featured speakers include Justin Hansford\, Howard Law Professor\, Executive Director of the Thurgood Marshall Civil Rights Center\, and a Founding Member of the UN Permanent Forum on People of African Descent; Desiree Cormier Smith\, Alcee L. Hastings Global Leadership Fellow of the Global Futures Collaborative powered by the RBC\, and Former US Special Representative for Racial Equity and Justice US Department of State; and student moderator Amanda Lettman\, a sophomore political science major\, philosophy minor\, and Research Director for HU Lawyers Without Borders.
URL:https://global.howard.edu/event/attempts-to-undermine-black-internationalism/
LOCATION:Browsing Room\, Founders LIbrary\, 500 Howard PI NW\, Washington\, DC\, 20059\, United States
CATEGORIES:Ralph Bunche International Affairs Center
ATTACH;FMTTYPE=image/png:https://global.howard.edu/wp-content/uploads/2026/03/PFPAD-Poster-1.png
END:VEVENT
BEGIN:VEVENT
DTSTART;TZID=America/New_York:20260326T150000
DTEND;TZID=America/New_York:20260326T170000
DTSTAMP:20260422T190026
CREATED:20260320T185355Z
LAST-MODIFIED:20260320T185355Z
UID:7865-1774537200-1774544400@global.howard.edu
SUMMARY:HBCUs and the Advancement of Black Communities in the Americas
DESCRIPTION:Join us for a powerful panel discussion examining the impact of HBCUs on the advancement of Black communities across the Americas. \n  \nThis event is co-hosted by the Ralph J. Bunche International Affairs Center and the Organization of American States (OAS) in honor of the IX Inter-American Week for People of African Descent. The conversation will highlight the historical and contemporary contributions of HBCUs to global Black communities.
URL:https://global.howard.edu/event/hbcus-and-the-advancement-of-black-communities-in-the-americas/
LOCATION:Ralph J. Bunche International Affairs Center\, 1805 7th Street NW\, Washington\, DC\, 20001\, United States
CATEGORIES:Ralph Bunche International Affairs Center
ATTACH;FMTTYPE=image/png:https://global.howard.edu/wp-content/uploads/2026/03/HBCUs-AND-THE-ADVANCEMENT-OF-BLACK-COMMUNITIES-ACROSS-THE-AMERICAS-1.png
END:VEVENT
BEGIN:VEVENT
DTSTART;TZID=America/New_York:20260409T130000
DTEND;TZID=America/New_York:20260409T143000
DTSTAMP:20260422T190026
CREATED:20260406T162154Z
LAST-MODIFIED:20260408T170854Z
UID:7876-1775739600-1775745000@global.howard.edu
SUMMARY:Global Futures Collaborative - First Anniversary Indaba
DESCRIPTION:Friends and Colleagues\,\n\nIt has been a year since you helped us launch the Global Futures Collaborative\, a non-profit practitioner resource center and policy engine reimagining diplomacy in strategic partnership with the Ralph J. Bunche International Affairs Center at Howard University. We invite you to join us to celebrate our first anniversary as we reflect on accomplishments of our inaugural cohort of Alcee L. Hastings Global Leadership Fellows and launch additional programming through our Global Futures Collaborative Community Network\, our subnational diplomacy network for collective solidarity\, access\, and affirmation.\n\nOn Thursday\, April 9 at 1-2:30pm\, at 1805 7th ST NW\, 8th Floor\, Washington\, DC we invite you our first live taping of #GlobalFuturesCollabs with Community Network members and an anniversary “Indaba\,” an interactive community dialogue structured for participants to catalyze exchange for tactical empowerment solutions.\n\nPlease RSVP by 4/8 at the following link: https://forms.office.com/r/shkQTBbTLi . **RSVP Required for Participation** 
URL:https://global.howard.edu/event/global-futures-collaborative-first-anniversary-indaba/
LOCATION:Ralph J. Bunche International Affairs Center\, 1805 7th Street NW\, Washington\, DC\, 20001\, United States
CATEGORIES:Global Futures Collaborative
ATTACH;FMTTYPE=image/jpeg:https://global.howard.edu/wp-content/uploads/2026/04/1st-Anniv-INDABA.jpg
END:VEVENT
END:VCALENDAR