BEGIN:VCALENDAR
VERSION:2.0
PRODID:-// - ECPv6.15.20//NONSGML v1.0//EN
CALSCALE:GREGORIAN
METHOD:PUBLISH
X-ORIGINAL-URL:https://global.howard.edu
X-WR-CALDESC:Events for 
REFRESH-INTERVAL;VALUE=DURATION:PT1H
X-Robots-Tag:noindex
X-PUBLISHED-TTL:PT1H
BEGIN:VTIMEZONE
TZID:America/New_York
BEGIN:DAYLIGHT
TZOFFSETFROM:-0500
TZOFFSETTO:-0400
TZNAME:EDT
DTSTART:20240310T070000
END:DAYLIGHT
BEGIN:STANDARD
TZOFFSETFROM:-0400
TZOFFSETTO:-0500
TZNAME:EST
DTSTART:20241103T060000
END:STANDARD
BEGIN:DAYLIGHT
TZOFFSETFROM:-0500
TZOFFSETTO:-0400
TZNAME:EDT
DTSTART:20250309T070000
END:DAYLIGHT
BEGIN:STANDARD
TZOFFSETFROM:-0400
TZOFFSETTO:-0500
TZNAME:EST
DTSTART:20251102T060000
END:STANDARD
BEGIN:DAYLIGHT
TZOFFSETFROM:-0500
TZOFFSETTO:-0400
TZNAME:EDT
DTSTART:20260308T070000
END:DAYLIGHT
BEGIN:STANDARD
TZOFFSETFROM:-0400
TZOFFSETTO:-0500
TZNAME:EST
DTSTART:20261101T060000
END:STANDARD
END:VTIMEZONE
BEGIN:VEVENT
DTSTART;TZID=America/New_York:20251114T130000
DTEND;TZID=America/New_York:20251114T150000
DTSTAMP:20260422T184155
CREATED:20251107T184737Z
LAST-MODIFIED:20251107T184737Z
UID:7827-1763125200-1763132400@global.howard.edu
SUMMARY:Film Screening - The Black Stars
DESCRIPTION:Join Word is Bond and the Global Futures Collaborative powered by the Ralph J. Bunche International Affairs Center for screening of the short documentary film\, “The Black Stars” followed by a panel discussion with Lakayana Drury\, Executive Producer and Founder of Word is Bond.  The film centers around eight Black men who traveled to Ghana for a two-week leadership expedition in the summer of 2023. The documentary sheds light on the experiences of young Black men growing up in the Pacific Northwest and the importance of investment in Black youth leadership. \n 
URL:https://global.howard.edu/event/film-screening-the-black-stars/
LOCATION:The Forum\, Blackburn Center (Howard University)
CATEGORIES:Global Futures Collaborative
END:VEVENT
BEGIN:VEVENT
DTSTART;TZID=America/New_York:20251026T180000
DTEND;TZID=America/New_York:20251028T170000
DTSTAMP:20260422T184155
CREATED:20250916T134908Z
LAST-MODIFIED:20250916T134908Z
UID:7791-1761501600-1761670800@global.howard.edu
SUMMARY:2025 HBCU Internationalization Symposium
DESCRIPTION:Join the Bunche Center as it hosts the 4th HBCU Internationalization Symposium from Sunday\, October 26 to Tuesday\, October 28. \nFor more details about the schedule and registration\, visit the program page here.
URL:https://global.howard.edu/event/2025-hbcu-internationalization-symposium/
LOCATION:DC
CATEGORIES:Ralph Bunche International Affairs Center
ATTACH;FMTTYPE=image/png:https://global.howard.edu/wp-content/uploads/2025/08/HBCU-Symposium-Flyer.png
END:VEVENT
BEGIN:VEVENT
DTSTART;TZID=America/New_York:20250926T080000
DTEND;TZID=America/New_York:20250926T100000
DTSTAMP:20260422T184155
CREATED:20250916T174615Z
LAST-MODIFIED:20250923T001115Z
UID:7795-1758873600-1758880800@global.howard.edu
SUMMARY:Global Futures Collaborative Power Breakfast
DESCRIPTION:Global Futures Collaborative invites you to a Power Breakfast and Community Dialogue featuring the co-founders of GFC alongside members of the inaugural cohort of Alcee L. Hastings Global Leadership Fellows. This dynamic morning gathering will convene global policy experts\, fellows\, and community leaders for a lively dialogue on shaping inclusive futures\, amplifying diverse voices\, and catalyzing collaborative leadership across borders and sectors. This event will also serve to launch our new Community Network and explore other ways the GFC can partner with your community.\n\nPlease RSVP here (https://forms.cloud.microsoft/r/QN6KVwS8X9)to confirm your attendance by 9/25. **RSVP Required for Participation – Space Limited** \n\nLocation: Ralph J. Bunche International Affairs Center (UNCF Building)\, 1805 7th St. NW\, 8th Floor\, Washington\, DC 20059 (behind the Shaw-Howard Metro Station)
URL:https://global.howard.edu/event/gfc-power-breakfast/
LOCATION:DC
CATEGORIES:Global Futures Collaborative
ATTACH;FMTTYPE=image/jpeg:https://global.howard.edu/wp-content/uploads/2025/09/Blue-and-Orange-Modern-Meeting-Invitation-2-1.jpg
END:VEVENT
BEGIN:VEVENT
DTSTART;TZID=America/New_York:20250925T160000
DTEND;TZID=America/New_York:20250925T190000
DTSTAMP:20260422T184155
CREATED:20250915T191408Z
LAST-MODIFIED:20250922T234536Z
UID:7784-1758816000-1758826800@global.howard.edu
SUMMARY:As Goes the South Film Screening
DESCRIPTION:Join us for a special screening of “As Goes the South\,” a powerful new documentary that reveals the character of a modern\, Southern city fighting for progress against challenging social and political dynamics. Through immersive storytelling\, thoughtful visuals\, and a score by Birmingham-native Pink Siifu\, this film reframes the narrative of Birmingham\, highlighting Black joy\, resilience\, and local leadership.\n\nAll are welcome. Free admission with RSVP.\n\n\n\n\n\nWhen you submit the form below\, it will not automatically collect your details like name and email address unless you provide it yourself.\n\n\nLocation: Lankford Auditorium True Reformer Building\, 1200 U Street NW\, Washington\, DC 20009 \nFollowing the screening\, engage in a lively panel discussion with local community leaders\, exploring themes of transformation\, activism\, and inclusive futures.  Panelists will include:
URL:https://global.howard.edu/event/as-goes-the-south-film-screening/
LOCATION:DC
CATEGORIES:Global Futures Collaborative
ATTACH;FMTTYPE=image/jpeg:https://global.howard.edu/wp-content/uploads/2025/09/AGTS-Film-Screening-Poster-Finalsm.jpeg
END:VEVENT
END:VCALENDAR