BEGIN:VCALENDAR
VERSION:2.0
PRODID:-// - ECPv6.15.20//NONSGML v1.0//EN
CALSCALE:GREGORIAN
METHOD:PUBLISH
X-ORIGINAL-URL:https://global.howard.edu
X-WR-CALDESC:Events for 
REFRESH-INTERVAL;VALUE=DURATION:PT1H
X-Robots-Tag:noindex
X-PUBLISHED-TTL:PT1H
BEGIN:VTIMEZONE
TZID:America/New_York
BEGIN:DAYLIGHT
TZOFFSETFROM:-0500
TZOFFSETTO:-0400
TZNAME:EDT
DTSTART:20240310T070000
END:DAYLIGHT
BEGIN:STANDARD
TZOFFSETFROM:-0400
TZOFFSETTO:-0500
TZNAME:EST
DTSTART:20241103T060000
END:STANDARD
BEGIN:DAYLIGHT
TZOFFSETFROM:-0500
TZOFFSETTO:-0400
TZNAME:EDT
DTSTART:20250309T070000
END:DAYLIGHT
BEGIN:STANDARD
TZOFFSETFROM:-0400
TZOFFSETTO:-0500
TZNAME:EST
DTSTART:20251102T060000
END:STANDARD
BEGIN:DAYLIGHT
TZOFFSETFROM:-0500
TZOFFSETTO:-0400
TZNAME:EDT
DTSTART:20260308T070000
END:DAYLIGHT
BEGIN:STANDARD
TZOFFSETFROM:-0400
TZOFFSETTO:-0500
TZNAME:EST
DTSTART:20261101T060000
END:STANDARD
END:VTIMEZONE
BEGIN:VEVENT
DTSTART;TZID=America/New_York:20251026T180000
DTEND;TZID=America/New_York:20251028T170000
DTSTAMP:20260422T232636
CREATED:20250916T134908Z
LAST-MODIFIED:20250916T134908Z
UID:7791-1761501600-1761670800@global.howard.edu
SUMMARY:2025 HBCU Internationalization Symposium
DESCRIPTION:Join the Bunche Center as it hosts the 4th HBCU Internationalization Symposium from Sunday\, October 26 to Tuesday\, October 28. \nFor more details about the schedule and registration\, visit the program page here.
URL:https://global.howard.edu/event/2025-hbcu-internationalization-symposium/
LOCATION:DC
CATEGORIES:Ralph Bunche International Affairs Center
ATTACH;FMTTYPE=image/png:https://global.howard.edu/wp-content/uploads/2025/08/HBCU-Symposium-Flyer.png
END:VEVENT
END:VCALENDAR